BEGIN:VCALENDAR
VERSION:2.0
PRODID:-//【公式】TAKASE KIKAKU Hockey Park - ECPv5.16.2.1//NONSGML v1.0//EN
CALSCALE:GREGORIAN
METHOD:PUBLISH
X-WR-CALNAME:【公式】TAKASE KIKAKU Hockey Park
X-ORIGINAL-URL:https://tk-hockeypark.info
X-WR-CALDESC:【公式】TAKASE KIKAKU Hockey Park のイベント
BEGIN:VTIMEZONE
TZID:Asia/Tokyo
BEGIN:STANDARD
TZOFFSETFROM:+0900
TZOFFSETTO:+0900
TZNAME:JST
DTSTART:20190101T000000
END:STANDARD
END:VTIMEZONE
BEGIN:VEVENT
DTSTART;TZID=Asia/Tokyo:20191225T130000
DTEND;TZID=Asia/Tokyo:20191225T160000
DTSTAMP:20260421T061104
CREATED:20191127T020039Z
LAST-MODIFIED:20191127T022537Z
UID:995-1577278800-1577289600@tk-hockeypark.info
SUMMARY:T.K Hockey Park 全面
DESCRIPTION:①フリーエリア：開催\n②コミュニティーエリア：開催\n③プログラムエリア：ご利用人数により開催\n④キッズエリア：ご利用人数により開催\n⑤セミナーエリア：✖\n⑥イベントエリア：✖ \n【コート案内図】※スマートフォンの方は、指によるピンチイン・アウトで拡大縮小を行ってください。 \n全面利用の為、コートのエリア分けはご利用人数に応じて指示させていただきます。
URL:https://tk-hockeypark.info/event/191225-01/
LOCATION:日光市ホッケー場 全面\, 〒321-2333 栃木県日光市薄井沢 881 番地 外 今 市 青少年 スポーツ センター 内\, 日光市\, 栃木県\, 321-2333\, Japan
ATTACH;FMTTYPE=image/png:https://tk-hockeypark.info/wp-content/uploads/2018/06/369445ffd44e19c1c358e444ab89c6d0-e1529545847801.png
END:VEVENT
END:VCALENDAR