BEGIN:VCALENDAR
VERSION:2.0
PRODID:-//【公式】TAKASE KIKAKU Hockey Park - ECPv5.16.2.1//NONSGML v1.0//EN
CALSCALE:GREGORIAN
METHOD:PUBLISH
X-WR-CALNAME:【公式】TAKASE KIKAKU Hockey Park
X-ORIGINAL-URL:https://tk-hockeypark.info
X-WR-CALDESC:【公式】TAKASE KIKAKU Hockey Park のイベント
BEGIN:VTIMEZONE
TZID:Asia/Tokyo
BEGIN:STANDARD
TZOFFSETFROM:+0900
TZOFFSETTO:+0900
TZNAME:JST
DTSTART:20190101T000000
END:STANDARD
END:VTIMEZONE
BEGIN:VEVENT
DTSTART;TZID=Asia/Tokyo:20190519T190000
DTEND;TZID=Asia/Tokyo:20190519T210000
DTSTAMP:20260421T015934
CREATED:20190425T010039Z
LAST-MODIFIED:20190516T135106Z
UID:688-1558292400-1558299600@tk-hockeypark.info
SUMMARY:【イベント開催】 Hockey Park
DESCRIPTION: “くびれに効く！ホッケーエクササイズ！” \nこのたび、元ホッケー選手でスポーツトレーナーの仙波美恵さん（AT-SHOP）をお招きし、\n“くびれに効く！ホッケーエクササイズ！”を開催します。 \nお子さんがホッケー練習中に、参加いただけるお母さんたち大募集です！ \n〇開催時間\n19:30～20:00（約30分程度） \n〇講師：仙波美恵さん\n元ホッケー選手。社会人チームであるグラクソでもプレー。\n現在はスポ―ツトレーナーとして精力的に活動すると同時に、\n２児の母として子育て奮闘中。 \n【仙波さんが主に活動している『AT-SHOP』についてはこちら↓↓↓】\n　https://www.facebook.com/atshop.nasu/ \n \n〇エクササイズ内容\nホッケースティックを使用し、”くびれ”を意識したエクササイズを行います。\n走るなどの激しい運動ではありませんが、運動のできる服装での参加をお勧め致します。 \n〇参加申し込み\n特にお申し込みは必要ありません。イベント開催時間前になりましたらお声かけさせていただきます。\nまた、イベント途中からの参加も可能です。 \n〇イベント参加費用\n　無料（Park利用料に含まれます） \n  \n※当日はNHKの撮影がはいります。ご理解ご協力の程よろしくお願い致します。\n※当日雨天の場合は21日(火)に延期または中止となります。\n※イベント開催に伴い、コートを半面から全面利用に変更しました。\n詳細はページ下部【コート案内図】をご確認ください。 \n①フリーエリア：開催\n②コミュニティーエリア：開催\n③プログラムエリア：ご利用人数により開催\n④キッズエリア：ご利用人数により開催\n⑤セミナーエリア：✖\n⑥イベントエリア：開催\n \n【コート案内図】※スマートフォンの方は、指によるピンチイン・アウトで拡大縮小を行ってください。
URL:https://tk-hockeypark.info/event/190519-01/
LOCATION:日光市ホッケー場 全面\, 〒321-2333 栃木県日光市薄井沢 881 番地 外 今 市 青少年 スポーツ センター 内\, 日光市\, 栃木県\, 321-2333\, Japan
ATTACH;FMTTYPE=image/jpeg:https://tk-hockeypark.info/wp-content/uploads/2019/03/takasekikaku-Hockey-Park-09.jpg
END:VEVENT
END:VCALENDAR