BEGIN:VCALENDAR
VERSION:2.0
PRODID:-//【公式】TAKASE KIKAKU Hockey Park - ECPv5.16.2.1//NONSGML v1.0//EN
CALSCALE:GREGORIAN
METHOD:PUBLISH
X-WR-CALNAME:【公式】TAKASE KIKAKU Hockey Park
X-ORIGINAL-URL:https://tk-hockeypark.info
X-WR-CALDESC:【公式】TAKASE KIKAKU Hockey Park のイベント
BEGIN:VTIMEZONE
TZID:Asia/Tokyo
BEGIN:STANDARD
TZOFFSETFROM:+0900
TZOFFSETTO:+0900
TZNAME:JST
DTSTART:20180101T000000
END:STANDARD
END:VTIMEZONE
BEGIN:VEVENT
DTSTART;TZID=Asia/Tokyo:20181202T170000
DTEND;TZID=Asia/Tokyo:20181202T190000
DTSTAMP:20260421T000307
CREATED:20181025T013839Z
LAST-MODIFIED:20181126T150530Z
UID:457-1543770000-1543777200@tk-hockeypark.info
SUMMARY:T.K Hockey Park
DESCRIPTION:①フリーエリア：開催\n②コミュニティーエリア：開催\n③プログラムエリア：ご利用人数により開催\n④キッズエリア：ご利用人数により開催\n⑤セミナーエリア：✖\n⑥イベントエリア：✖ \n【コート案内図】※スマートフォンの方は、指によるピンチイン・アウトで拡大縮小を行ってください。
URL:https://tk-hockeypark.info/event/181202/
LOCATION:日光市ホッケー場 半面A側\, 〒321-2333 栃木県日光市薄井沢 881 番地 外 今 市 青少年 スポーツ センター 内\, 日光市\, 栃木県\, 321-2333\, Japan
ATTACH;FMTTYPE=image/png:https://tk-hockeypark.info/wp-content/uploads/2018/06/369445ffd44e19c1c358e444ab89c6d0-e1529545847801.png
END:VEVENT
BEGIN:VEVENT
DTSTART;TZID=Asia/Tokyo:20181202T190000
DTEND;TZID=Asia/Tokyo:20181202T200000
DTSTAMP:20260421T000307
CREATED:20181110T013839Z
LAST-MODIFIED:20181126T150755Z
UID:459-1543777200-1543780800@tk-hockeypark.info
SUMMARY:大人優先 Hockey Park【試験的に開催】
DESCRIPTION:大人優先開催となります！\n尚、当クラブにおける”大人”は、\n”18歳以上で高校生以外の方”とさせていただきます。 \n大人優先のHockey Parkでは大人以外の方のご利用も可能ですが、\nご利用できるエリアが限定されます。ご理解の程よろしくお願い致します。 \n①フリーエリア：開催\n②大人優先エリア：開催\n③プログラムエリア：ご利用人数により開催\n④キッズエリア：ご利用人数により開催\n⑤セミナーエリア：✖\n⑥イベントエリア：✖ \n【コート案内図】※スマートフォンの方は、指によるピンチイン・アウトで拡大縮小を行ってください。
URL:https://tk-hockeypark.info/event/181202-ad/
LOCATION:栃木県
ATTACH;FMTTYPE=image/png:https://tk-hockeypark.info/wp-content/uploads/2018/11/adtakasekikaku-Hockey-Park-07.png
END:VEVENT
END:VCALENDAR