BEGIN:VCALENDAR
VERSION:2.0
PRODID:-//【公式】TAKASE KIKAKU Hockey Park - ECPv5.16.2.1//NONSGML v1.0//EN
CALSCALE:GREGORIAN
METHOD:PUBLISH
X-WR-CALNAME:【公式】TAKASE KIKAKU Hockey Park
X-ORIGINAL-URL:https://tk-hockeypark.info
X-WR-CALDESC:【公式】TAKASE KIKAKU Hockey Park のイベント
BEGIN:VTIMEZONE
TZID:Asia/Tokyo
BEGIN:STANDARD
TZOFFSETFROM:+0900
TZOFFSETTO:+0900
TZNAME:JST
DTSTART:20180101T000000
END:STANDARD
END:VTIMEZONE
BEGIN:VEVENT
DTSTART;TZID=Asia/Tokyo:20180729T060000
DTEND;TZID=Asia/Tokyo:20180729T083000
DTSTAMP:20260421T015557
CREATED:20180625T013839Z
LAST-MODIFIED:20190703T004604Z
UID:91-1532844000-1532853000@tk-hockeypark.info
SUMMARY:食堂ニジコ Presents Hockey Park
DESCRIPTION:『食堂ニジコ』さんに開催タイトルスポンサーになって頂きました！\n本日はポイント2倍となります！ \n食堂ニジコ　メニューページ　http://oshinagaki-plus.com/oshinagaki/nijico/\n食堂ニジコ　公式ホームページ　http://shokudou-nijico.com/ \n\nフリーエリア　：　開催\nコミュニティーエリア　：　開催\nキッズエリア　：　人数により開催\nプログラムエリア　：　参加人数により開催\nセミナーエリア　×\nイベントエリア　：　開催 \n【イベントエリア詳細】\nドラッグフリッカー練習アイテムを体験しよう！！\n\nオランダなどで、ドラックフリッカーの練習道具として使われているアイテムを、\n試行錯誤しながら、自作してみました。 \n使用した感想は、 \nボールをスティックの面でロールさせる感覚が簡単に養われるなー、これは反則だわ！と、\nGKながら思いました！笑 \n当日は、Hockey Parkのイベントエリアに試作品を持っていくので、\n是非とも使ってみてください！ \n※追加の利用料金：必要なし \n \n\nhttps://tk-hockeypark.info/wp-content/uploads/2018/06/5090.t.mp4\n↑実家の横の駐車場で撮影。ごちゃごちゃしててすいません。 \n  \n【タイトルスポンサーPR欄】\n食堂ニジコ　メニューページ　http://oshinagaki-plus.com/oshinagaki/nijico/\n食堂ニジコ　公式ホームページ　http://shokudou-nijico.com/
URL:https://tk-hockeypark.info/event/180729/
LOCATION:日光市ホッケー場 半面A側\, 〒321-2333 栃木県日光市薄井沢 881 番地 外 今 市 青少年 スポーツ センター 内\, 日光市\, 栃木県\, 321-2333\, Japan
ATTACH;FMTTYPE=image/jpeg:https://tk-hockeypark.info/wp-content/uploads/2018/06/5086.jpg
END:VEVENT
END:VCALENDAR