BEGIN:VCALENDAR
VERSION:2.0
PRODID:-//【公式】TAKASE KIKAKU Hockey Park - ECPv5.16.2.1//NONSGML v1.0//EN
CALSCALE:GREGORIAN
METHOD:PUBLISH
X-WR-CALNAME:【公式】TAKASE KIKAKU Hockey Park
X-ORIGINAL-URL:https://tk-hockeypark.info
X-WR-CALDESC:【公式】TAKASE KIKAKU Hockey Park のイベント
BEGIN:VTIMEZONE
TZID:Asia/Tokyo
BEGIN:STANDARD
TZOFFSETFROM:+0900
TZOFFSETTO:+0900
TZNAME:JST
DTSTART:20210101T000000
END:STANDARD
END:VTIMEZONE
BEGIN:VEVENT
DTSTART;TZID=Asia/Tokyo:20210914T183000
DTEND;TZID=Asia/Tokyo:20210914T200000
DTSTAMP:20260421T122334
CREATED:20210831T060039Z
LAST-MODIFIED:20210914T011358Z
UID:1861-1631644200-1631649600@tk-hockeypark.info
SUMMARY:※時間変更【GKkikaku】Hockey Park A面
DESCRIPTION:※緊急事態宣言延長に伴い、\nたかぱー開催時間が\n19:00～21:00 ⇒ 18:30～20:00に変更となりました。\nご迷惑をおかけいたしますが、ご理解の程よろしくお願いいたします。 \n【GKkikakuプログラム参加条件】\n・中学生以上のGK\n・GK防具持参（フル装備）\nプログラムに参加されない方は、フリーエリアをご自由にご利用いただけます。\n \n【タイムスケジュール】\n集合次第　各自ウォーミングアップ＋防具装着\n19：00 　プログラム開始予定\n20：00 　プログラム終了予定\n※プログラムの内容は、当日の参加人数、パフォーマンスレベルを考慮し決定いたします。 \n \n\n引き続き、日光市による新型コロナウイルス対策により、以下の対応を行って参ります。\nご理解ご協力の程宜しくお願い致します。 \n\n受付時に利用者名簿にご記載いただきます。\n※見学の方もご記名いただきます。名簿は日光市への提出義務があります。\n消毒液は各自持参をお願いします。\nこまめな手洗い、うがいをお願いします。\n体調が優れない場合は、利用・入場を控えてください。また、同居の家族等に体調が優れない方がいる場合も同様の対応をお願いします。\n可能な限り密着するような練習は控えてください。\n感染症予防のため、多くの集客、観戦者を伴うイベントはできません。今後、入場者数の制限を行う可能性もあります。\n\n【日光市からの情報はこちら（外部リンク）】 \n\n今後も行政機関の情報・指導に基づき、速やかに対処して参ります。 \nTAKASE KIKAKU Hockey Park
URL:https://tk-hockeypark.info/event/210914/
LOCATION:日光市ホッケー場 半面A側\, 〒321-2333 栃木県日光市薄井沢 881 番地 外 今 市 青少年 スポーツ センター 内\, 日光市\, 栃木県\, 321-2333\, Japan
ATTACH;FMTTYPE=image/png:https://tk-hockeypark.info/wp-content/uploads/2020/08/tkhp-gkkikaku.png
END:VEVENT
END:VCALENDAR