BEGIN:VCALENDAR
VERSION:2.0
PRODID:-//【公式】TAKASE KIKAKU Hockey Park - ECPv5.16.2.1//NONSGML v1.0//EN
CALSCALE:GREGORIAN
METHOD:PUBLISH
X-WR-CALNAME:【公式】TAKASE KIKAKU Hockey Park
X-ORIGINAL-URL:https://tk-hockeypark.info
X-WR-CALDESC:【公式】TAKASE KIKAKU Hockey Park のイベント
BEGIN:VTIMEZONE
TZID:Asia/Tokyo
BEGIN:STANDARD
TZOFFSETFROM:+0900
TZOFFSETTO:+0900
TZNAME:JST
DTSTART:20190101T000000
END:STANDARD
END:VTIMEZONE
BEGIN:VEVENT
DTSTART;TZID=Asia/Tokyo:20190811T060000
DTEND;TZID=Asia/Tokyo:20190811T080000
DTSTAMP:20260420T220035
CREATED:20190730T010039Z
LAST-MODIFIED:20190731T080631Z
UID:798-1565503200-1565510400@tk-hockeypark.info
SUMMARY:通常・大人優先 Hockey Park
DESCRIPTION:AM 6:00～ PM 7:00  通常開催\nAM 7:00～ PM 8:00  大人優先開催 \n\n※大人優先開催では大人以外の方のご利用も可能ですが、\n　大人以外の方はご利用できるエリアが限定される場合があります。\n　ご理解の程よろしくお願い致します。 \n※大人の参加人数によっては、大人優先エリアがフリーエリアに変更になる場合もございます。\n※通常開催と大人優先開催を通しで利用する場合でも追加料金はかかりません！！ \n尚、当クラブにおける”大人”は、\n”18歳以上で高校生以外の方”とさせていただきます。 \n\n【通常開催】AM 6:00 – PM 7:00\n①フリーエリア：開催\n②コミュニティーエリア：開催\n③プログラムエリア：ご利用人数により開催\n④キッズエリア：ご利用人数により開催\n⑤セミナーエリア：✖\n⑥イベントエリア：✖ \n【コート案内図】※スマートフォンの方は、指によるピンチイン・アウトで拡大縮小を行ってください。 \n \n\n【大人優先開催】AM 7:00 – AM 8:00\n①フリーエリア：開催\n②大人優先エリア：開催\n③プログラムエリア：ご利用人数により開催\n④キッズエリア：ご利用人数により開催\n⑤セミナーエリア：✖\n⑥イベントエリア：✖ \n【コート案内図】※スマートフォンの方は、指によるピンチイン・アウトで拡大縮小を行ってください。
URL:https://tk-hockeypark.info/event/190811-01/
LOCATION:日光市ホッケー場 半面B側\, 〒321-2333 栃木県日光市薄井沢 881 番地 外 今 市 青少年 スポーツ センター 内\, 日光市\, 栃木県\, 321-2333\, Japan
ATTACH;FMTTYPE=image/png:https://tk-hockeypark.info/wp-content/uploads/2019/02/takasekikaku-Hockey-Park-08-e1552294061486.png
END:VEVENT
END:VCALENDAR